BEGIN:VCALENDAR
VERSION:2.0
PRODID:-//Roullet-Saint-Estèphe - ECPv6.15.17//NONSGML v1.0//EN
CALSCALE:GREGORIAN
METHOD:PUBLISH
X-WR-CALNAME:Roullet-Saint-Estèphe
X-ORIGINAL-URL:https://www.roullet-saint-estephe.fr
X-WR-CALDESC:Évènements pour Roullet-Saint-Estèphe
REFRESH-INTERVAL;VALUE=DURATION:PT1H
X-Robots-Tag:noindex
X-PUBLISHED-TTL:PT1H
BEGIN:VTIMEZONE
TZID:Europe/Paris
BEGIN:DAYLIGHT
TZOFFSETFROM:+0100
TZOFFSETTO:+0200
TZNAME:CEST
DTSTART:20240331T010000
END:DAYLIGHT
BEGIN:STANDARD
TZOFFSETFROM:+0200
TZOFFSETTO:+0100
TZNAME:CET
DTSTART:20241027T010000
END:STANDARD
BEGIN:DAYLIGHT
TZOFFSETFROM:+0100
TZOFFSETTO:+0200
TZNAME:CEST
DTSTART:20250330T010000
END:DAYLIGHT
BEGIN:STANDARD
TZOFFSETFROM:+0200
TZOFFSETTO:+0100
TZNAME:CET
DTSTART:20251026T010000
END:STANDARD
BEGIN:DAYLIGHT
TZOFFSETFROM:+0100
TZOFFSETTO:+0200
TZNAME:CEST
DTSTART:20260329T010000
END:DAYLIGHT
BEGIN:STANDARD
TZOFFSETFROM:+0200
TZOFFSETTO:+0100
TZNAME:CET
DTSTART:20261025T010000
END:STANDARD
END:VTIMEZONE
BEGIN:VEVENT
DTSTART;TZID=Europe/Paris:20250322T203000
DTEND;TZID=Europe/Paris:20250322T203000
DTSTAMP:20260421T215035
CREATED:20250314T131043Z
LAST-MODIFIED:20250314T135813Z
UID:8773-1742675400-1742675400@www.roullet-saint-estephe.fr
SUMMARY:Soirée LOTO
DESCRIPTION:
URL:https://www.roullet-saint-estephe.fr/evenement/soiree-loto/
LOCATION:Salle des fêtes\, Roullet-Saint-Estèphe\, 16440
CATEGORIES:Animation
ATTACH;FMTTYPE=image/jpeg:https://www.roullet-saint-estephe.fr/wp-content/uploads/2025/03/Soiree-LOTO-22-03-2025.jpg
END:VEVENT
END:VCALENDAR