BEGIN:VCALENDAR
VERSION:2.0
PRODID:-//Roullet-Saint-Estèphe - ECPv6.15.17//NONSGML v1.0//EN
CALSCALE:GREGORIAN
METHOD:PUBLISH
X-ORIGINAL-URL:https://www.roullet-saint-estephe.fr
X-WR-CALDESC:Évènements pour Roullet-Saint-Estèphe
REFRESH-INTERVAL;VALUE=DURATION:PT1H
X-Robots-Tag:noindex
X-PUBLISHED-TTL:PT1H
BEGIN:VTIMEZONE
TZID:Europe/Paris
BEGIN:DAYLIGHT
TZOFFSETFROM:+0100
TZOFFSETTO:+0200
TZNAME:CEST
DTSTART:20240331T010000
END:DAYLIGHT
BEGIN:STANDARD
TZOFFSETFROM:+0200
TZOFFSETTO:+0100
TZNAME:CET
DTSTART:20241027T010000
END:STANDARD
BEGIN:DAYLIGHT
TZOFFSETFROM:+0100
TZOFFSETTO:+0200
TZNAME:CEST
DTSTART:20250330T010000
END:DAYLIGHT
BEGIN:STANDARD
TZOFFSETFROM:+0200
TZOFFSETTO:+0100
TZNAME:CET
DTSTART:20251026T010000
END:STANDARD
BEGIN:DAYLIGHT
TZOFFSETFROM:+0100
TZOFFSETTO:+0200
TZNAME:CEST
DTSTART:20260329T010000
END:DAYLIGHT
BEGIN:STANDARD
TZOFFSETFROM:+0200
TZOFFSETTO:+0100
TZNAME:CET
DTSTART:20261025T010000
END:STANDARD
END:VTIMEZONE
BEGIN:VEVENT
DTSTART;TZID=Europe/Paris:20250524T123000
DTEND;TZID=Europe/Paris:20250524T230000
DTSTAMP:20260421T184241
CREATED:20250505T091247Z
LAST-MODIFIED:20250505T091247Z
UID:8885-1748089800-1748127600@www.roullet-saint-estephe.fr
SUMMARY:Fête du printemps et de la nature
DESCRIPTION:Plaine des Glamots. 12h30 : Accueil du bouchon de la RN10 et exposition des véhicules anciens organisé par le Club Passion Auto-Moto 16. A partir de 14h30 de nombreuses animations : jeu de piste en VTT ou à la découverte de la biodiversité\, balade en calèche\, jeux en bois. 15h : hand. 15h-16h : danse tahitienne par l’association « Heikapua Ori Tahiti ». A partir de 16h : maquillage et tatouages éphémères. 16h-17h : danse en ligne. 16h30-18h30 : immersion dans les arts du cirque. 18h30 : spectacle de marionnettes « Bulbe » par la compagnie Macadam Tempo. 20h30 : concert avec le groupe NO TWIN qui propose un blues singulier proche de ses racines profondes teinté de rock et de pop.. 22h00 : spectacle de feu : la fille de l’Alchimiste par l’association Prysm Orion. Toutes les activités et les spectacles sont gratuits. Buvette et restauration toute la journée par des associations de la commune. Renseignements au 05.45.66.30.08 (3)
URL:https://www.roullet-saint-estephe.fr/evenement/fete-du-printemps-et-de-la-nature/
LOCATION:Plaine des Glamots
CATEGORIES:Animation,Spectacle
ATTACH;FMTTYPE=image/jpeg:https://www.roullet-saint-estephe.fr/wp-content/uploads/2025/04/Affiche_FdP25_v1b_page-0001.jpg
END:VEVENT
END:VCALENDAR