BEGIN:VCALENDAR
VERSION:2.0
PRODID:-//Roullet-Saint-Estèphe - ECPv6.15.17//NONSGML v1.0//EN
CALSCALE:GREGORIAN
METHOD:PUBLISH
X-ORIGINAL-URL:https://www.roullet-saint-estephe.fr
X-WR-CALDESC:Évènements pour Roullet-Saint-Estèphe
REFRESH-INTERVAL;VALUE=DURATION:PT1H
X-Robots-Tag:noindex
X-PUBLISHED-TTL:PT1H
BEGIN:VTIMEZONE
TZID:Europe/Paris
BEGIN:DAYLIGHT
TZOFFSETFROM:+0100
TZOFFSETTO:+0200
TZNAME:CEST
DTSTART:20210328T010000
END:DAYLIGHT
BEGIN:STANDARD
TZOFFSETFROM:+0200
TZOFFSETTO:+0100
TZNAME:CET
DTSTART:20211031T010000
END:STANDARD
BEGIN:DAYLIGHT
TZOFFSETFROM:+0100
TZOFFSETTO:+0200
TZNAME:CEST
DTSTART:20220327T010000
END:DAYLIGHT
BEGIN:STANDARD
TZOFFSETFROM:+0200
TZOFFSETTO:+0100
TZNAME:CET
DTSTART:20221030T010000
END:STANDARD
BEGIN:DAYLIGHT
TZOFFSETFROM:+0100
TZOFFSETTO:+0200
TZNAME:CEST
DTSTART:20230326T010000
END:DAYLIGHT
BEGIN:STANDARD
TZOFFSETFROM:+0200
TZOFFSETTO:+0100
TZNAME:CET
DTSTART:20231029T010000
END:STANDARD
BEGIN:DAYLIGHT
TZOFFSETFROM:+0100
TZOFFSETTO:+0200
TZNAME:CEST
DTSTART:20240331T010000
END:DAYLIGHT
BEGIN:STANDARD
TZOFFSETFROM:+0200
TZOFFSETTO:+0100
TZNAME:CET
DTSTART:20241027T010000
END:STANDARD
END:VTIMEZONE
BEGIN:VEVENT
DTSTART;TZID=Europe/Paris:20230517T183000
DTEND;TZID=Europe/Paris:20230517T233000
DTSTAMP:20260423T113754
CREATED:20230503T064433Z
LAST-MODIFIED:20230503T064433Z
UID:7242-1684348200-1684366200@www.roullet-saint-estephe.fr
SUMMARY:Fête du Printemps
DESCRIPTION:
URL:https://www.roullet-saint-estephe.fr/evenement/fete-du-printemps/
LOCATION:Plaine des Glamots
ATTACH;FMTTYPE=image/png:https://www.roullet-saint-estephe.fr/wp-content/uploads/2023/05/Mai-en-fete.png
END:VEVENT
BEGIN:VEVENT
DTSTART;TZID=Europe/Paris:20230422T143000
DTEND;TZID=Europe/Paris:20230422T170000
DTSTAMP:20260423T113754
CREATED:20230406T094155Z
LAST-MODIFIED:20230406T094155Z
UID:7224-1682173800-1682182800@www.roullet-saint-estephe.fr
SUMMARY:CONFÉRENCE Papillon Lecture
DESCRIPTION:
URL:https://www.roullet-saint-estephe.fr/evenement/conference-papillon-lecture/
LOCATION:Bibliothèque de Roullet\, espace Jacques LACROIX\, ROULLET-SAINT-ESTEPHE\, 16440\, France
CATEGORIES:Conférence
ATTACH;FMTTYPE=image/jpeg:https://www.roullet-saint-estephe.fr/wp-content/uploads/2023/04/Affiche-conference-dyslexie-2.jpg
END:VEVENT
BEGIN:VEVENT
DTSTART;TZID=Europe/Paris:20230401T080000
DTEND;TZID=Europe/Paris:20230402T170000
DTSTAMP:20260423T113754
CREATED:20230323T103130Z
LAST-MODIFIED:20230323T103130Z
UID:7193-1680336000-1680454800@www.roullet-saint-estephe.fr
SUMMARY:FOIRE AUX CHOCOLATS
DESCRIPTION:
URL:https://www.roullet-saint-estephe.fr/evenement/foire-aux-chocolats/
LOCATION:Salle de spectacle des Glamots\, Espace Jean-Paul Kerjean\, Les Glamots\, Roullet-Saint-Estèphe\, 16440
ATTACH;FMTTYPE=image/jpeg:https://www.roullet-saint-estephe.fr/wp-content/uploads/2023/03/Flyer-foire-aux-chocolats.jpg
END:VEVENT
BEGIN:VEVENT
DTSTART;VALUE=DATE:20230314
DTEND;VALUE=DATE:20230326
DTSTAMP:20260423T113754
CREATED:20230303T110848Z
LAST-MODIFIED:20230303T110920Z
UID:6640-1678752000-1679788799@www.roullet-saint-estephe.fr
SUMMARY:CARNAVAL FÉÉRIE VÉNITIENNE
DESCRIPTION:
URL:https://www.roullet-saint-estephe.fr/evenement/carnaval-feerie-venitienne/
ATTACH;FMTTYPE=image/jpeg:https://www.roullet-saint-estephe.fr/wp-content/uploads/2023/03/carnaval2023.jpg
ORGANIZER;CN="Effervescentre":MAILTO:contact@effervescentre.fr
END:VEVENT
BEGIN:VEVENT
DTSTART;TZID=Europe/Paris:20230311T193000
DTEND;TZID=Europe/Paris:20230311T233000
DTSTAMP:20260423T113754
CREATED:20230203T105937Z
LAST-MODIFIED:20230203T105937Z
UID:7113-1678563000-1678577400@www.roullet-saint-estephe.fr
SUMMARY:Soirée dansante Saint Patrick
DESCRIPTION:
URL:https://www.roullet-saint-estephe.fr/evenement/soiree-dansante-saint-patrick/
LOCATION:Salle des fêtes\, Roullet-Saint-Estèphe\, 16440
END:VEVENT
BEGIN:VEVENT
DTSTART;TZID=Europe/Paris:20230225T200000
DTEND;TZID=Europe/Paris:20230225T233000
DTSTAMP:20260423T113754
CREATED:20230202T123715Z
LAST-MODIFIED:20230202T123737Z
UID:7093-1677355200-1677367800@www.roullet-saint-estephe.fr
SUMMARY:KARAOKE organisé par RSE PATRIMOINE
DESCRIPTION:
URL:https://www.roullet-saint-estephe.fr/evenement/karaoke/
LOCATION:Salle de spectacle des Glamots\, Espace Jean-Paul Kerjean\, Les Glamots\, Roullet-Saint-Estèphe\, 16440
END:VEVENT
BEGIN:VEVENT
DTSTART;TZID=Europe/Paris:20230221T150000
DTEND;TZID=Europe/Paris:20230221T180000
DTSTAMP:20260423T113754
CREATED:20230203T105024Z
LAST-MODIFIED:20230203T105024Z
UID:7111-1676991600-1677002400@www.roullet-saint-estephe.fr
SUMMARY:Conférence la Tyrosemiophilie
DESCRIPTION:
URL:https://www.roullet-saint-estephe.fr/evenement/conference-la-tyrosemiophilie/
LOCATION:Salle du Berguille\, 3 route de Sourbé\, ROULLET ST ESTEPHE\, 16440\, France
ORGANIZER;CN="Effervescentre":MAILTO:contact@effervescentre.fr
END:VEVENT
BEGIN:VEVENT
DTSTART;TZID=Europe/Paris:20230218T150000
DTEND;TZID=Europe/Paris:20230218T160000
DTSTAMP:20260423T113754
CREATED:20230202T133453Z
LAST-MODIFIED:20230202T133453Z
UID:7101-1676732400-1676736000@www.roullet-saint-estephe.fr
SUMMARY:Lecture de Pinocchio
DESCRIPTION:
URL:https://www.roullet-saint-estephe.fr/evenement/lecture-de-pinocchio/
LOCATION:Bibliothèque de Roullet\, espace Jacques LACROIX\, ROULLET-SAINT-ESTEPHE\, 16440\, France
ORGANIZER;CN="Effervescentre":MAILTO:contact@effervescentre.fr
END:VEVENT
BEGIN:VEVENT
DTSTART;TZID=Europe/Paris:20230216T150000
DTEND;TZID=Europe/Paris:20230216T180000
DTSTAMP:20260423T113754
CREATED:20230203T104633Z
LAST-MODIFIED:20230203T104633Z
UID:7109-1676559600-1676570400@www.roullet-saint-estephe.fr
SUMMARY:Conférence Gnossiennes et Gymnopédies
DESCRIPTION:
URL:https://www.roullet-saint-estephe.fr/evenement/conference-gnossiennes-et-gymnopedies/
LOCATION:Salle du Berguille\, 3 route de Sourbé\, ROULLET ST ESTEPHE\, 16440\, France
ORGANIZER;CN="Effervescentre":MAILTO:contact@effervescentre.fr
END:VEVENT
BEGIN:VEVENT
DTSTART;TZID=Europe/Paris:20221216T203000
DTEND;TZID=Europe/Paris:20221216T233000
DTSTAMP:20260423T113754
CREATED:20221121T125824Z
LAST-MODIFIED:20221207T134449Z
UID:6960-1671222600-1671233400@www.roullet-saint-estephe.fr
SUMMARY:Concert à l'Église
DESCRIPTION:
URL:https://www.roullet-saint-estephe.fr/evenement/concert-a-leglise/
LOCATION:Eglise de Roullet\, rue nationale\, ROULLET ST ESTEPHE\, 16440\, France
CATEGORIES:Concert
ATTACH;FMTTYPE=image/jpeg:https://www.roullet-saint-estephe.fr/wp-content/uploads/2022/11/Diapositive1.jpg
END:VEVENT
BEGIN:VEVENT
DTSTART;TZID=Europe/Paris:20221210T100000
DTEND;TZID=Europe/Paris:20221210T120000
DTSTAMP:20260423T113754
CREATED:20220923T095638Z
LAST-MODIFIED:20221207T134417Z
UID:6525-1670666400-1670673600@www.roullet-saint-estephe.fr
SUMMARY:Claudine LEVALDEUR en dédicace
DESCRIPTION:Rendez-vous à la bibliothèque de Roullet\, samedi 10 Décembre 2022\, de 10 h à 12 h. \n \n 
URL:https://www.roullet-saint-estephe.fr/evenement/si-la-bibliotheque-metait-contee/
LOCATION:Bibliothèque de Roullet\, espace Jacques LACROIX\, ROULLET-SAINT-ESTEPHE\, 16440\, France
CATEGORIES:Lecture
ATTACH;FMTTYPE=image/jpeg:https://www.roullet-saint-estephe.fr/wp-content/uploads/2022/12/Affiche-dedicace-Claudine-Levaldaur-2_page-0001.jpg
ORGANIZER;CN="Effervescentre":MAILTO:contact@effervescentre.fr
END:VEVENT
BEGIN:VEVENT
DTSTART;TZID=Europe/Paris:20221202T080000
DTEND;TZID=Europe/Paris:20221203T230000
DTSTAMP:20260423T113754
CREATED:20221118T144905Z
LAST-MODIFIED:20221118T144905Z
UID:6956-1669968000-1670108400@www.roullet-saint-estephe.fr
SUMMARY:Telethon
DESCRIPTION:
URL:https://www.roullet-saint-estephe.fr/evenement/telethon/
LOCATION:Salle des fêtes\, Roullet-Saint-Estèphe\, 16440
END:VEVENT
BEGIN:VEVENT
DTSTART;VALUE=DATE:20221125
DTEND;VALUE=DATE:20221210
DTSTAMP:20260423T113754
CREATED:20221121T141111Z
LAST-MODIFIED:20221207T134516Z
UID:6966-1669334400-1670630399@www.roullet-saint-estephe.fr
SUMMARY:Exposition Aline LUCAS "Obsolescence Déprogrammée"
DESCRIPTION:
URL:https://www.roullet-saint-estephe.fr/evenement/exposition-aline-lucas-obsolescence-deprogrammee/
LOCATION:Effervescentre\, 3 rue du Sergent Sourbé\, ROULLET-SAINT-ESTEPHE\, 16440\, France
CATEGORIES:Exposition
ATTACH;FMTTYPE=image/jpeg:https://www.roullet-saint-estephe.fr/wp-content/uploads/2022/11/A5_Expo_XPO_AL_v1.jpg
ORGANIZER;CN="Effervescentre":MAILTO:contact@effervescentre.fr
END:VEVENT
BEGIN:VEVENT
DTSTART;TZID=Europe/Paris:20221105T140000
DTEND;TZID=Europe/Paris:20221106T180000
DTSTAMP:20260423T113754
CREATED:20221017T065642Z
LAST-MODIFIED:20221017T065647Z
UID:6850-1667656800-1667757600@www.roullet-saint-estephe.fr
SUMMARY:2éme Salon du Livre et des Créateurs
DESCRIPTION:
URL:https://www.roullet-saint-estephe.fr/evenement/2eme-salon-du-livre-et-des-createurs/
LOCATION:Salle des fêtes\, Roullet-Saint-Estèphe\, 16440
CATEGORIES:Lecture
END:VEVENT
BEGIN:VEVENT
DTSTART;TZID=Europe/Paris:20221015T100000
DTEND;TZID=Europe/Paris:20221016T190000
DTSTAMP:20260423T113754
CREATED:20220912T134940Z
LAST-MODIFIED:20221012T072833Z
UID:6453-1665828000-1665946800@www.roullet-saint-estephe.fr
SUMMARY:Expo/Concours photo
DESCRIPTION:« L’Expo/concours photo sur le thème « Insolite » se tiendra le Week-end des 15 et 16 Octobre 2022\, de 10h à 12h30 et de 14h à 18h\, à la Salle des Fêtes du Bourg de Roullet (16440).  \nCette exposition et le concours sont ouverts gratuitement à tout photographe amateur ou professionnel et à tous les clubs photos. Une seule photo par photographe sera récompensée et cinq prix seront décernés le dimanche 16 octobre à 18 h. \nLes visiteurs sont invités à voter pour leur photo préférée. Ce sera le prix du public. Un jury\, composé des 4 photographes lauréats de l’édition 2021\, décernera le Prix Couleur\, le Prix Noir et Blanc et un Prix « Coup de coeur ». Un autre jury\, composé de 5 élus de la commune\, attribuera le Prix du Conseil municipal.  \nL’entrée est libre. » \n 
URL:https://www.roullet-saint-estephe.fr/evenement/expo-concours-photo/
LOCATION:Salle des fêtes\, Roullet-Saint-Estèphe\, 16440
CATEGORIES:Exposition
ATTACH;FMTTYPE=image/jpeg:https://www.roullet-saint-estephe.fr/wp-content/uploads/2022/10/Affiche-Expo-Concours-photo-Evenement.jpg
END:VEVENT
BEGIN:VEVENT
DTSTART;TZID=Europe/Paris:20221013T183000
DTEND;TZID=Europe/Paris:20221013T183000
DTSTAMP:20260423T113754
CREATED:20220923T094541Z
LAST-MODIFIED:20221012T075645Z
UID:6519-1665685800-1665685800@www.roullet-saint-estephe.fr
SUMMARY:ERIK SATIE CONFÉRENCE
DESCRIPTION:
URL:https://www.roullet-saint-estephe.fr/evenement/erik-satie-conference/
LOCATION:Salle du Berguille\, 3 route de Sourbé\, ROULLET ST ESTEPHE\, 16440\, France
CATEGORIES:Conférence
ORGANIZER;CN="Effervescentre":MAILTO:contact@effervescentre.fr
END:VEVENT
END:VCALENDAR