BEGIN:VCALENDAR
VERSION:2.0
PRODID:-//Roullet-Saint-Estèphe - ECPv6.15.17//NONSGML v1.0//EN
CALSCALE:GREGORIAN
METHOD:PUBLISH
X-ORIGINAL-URL:https://www.roullet-saint-estephe.fr
X-WR-CALDESC:Évènements pour Roullet-Saint-Estèphe
REFRESH-INTERVAL;VALUE=DURATION:PT1H
X-Robots-Tag:noindex
X-PUBLISHED-TTL:PT1H
BEGIN:VTIMEZONE
TZID:Europe/Paris
BEGIN:DAYLIGHT
TZOFFSETFROM:+0100
TZOFFSETTO:+0200
TZNAME:CEST
DTSTART:20230326T010000
END:DAYLIGHT
BEGIN:STANDARD
TZOFFSETFROM:+0200
TZOFFSETTO:+0100
TZNAME:CET
DTSTART:20231029T010000
END:STANDARD
BEGIN:DAYLIGHT
TZOFFSETFROM:+0100
TZOFFSETTO:+0200
TZNAME:CEST
DTSTART:20240331T010000
END:DAYLIGHT
BEGIN:STANDARD
TZOFFSETFROM:+0200
TZOFFSETTO:+0100
TZNAME:CET
DTSTART:20241027T010000
END:STANDARD
BEGIN:DAYLIGHT
TZOFFSETFROM:+0100
TZOFFSETTO:+0200
TZNAME:CEST
DTSTART:20250330T010000
END:DAYLIGHT
BEGIN:STANDARD
TZOFFSETFROM:+0200
TZOFFSETTO:+0100
TZNAME:CET
DTSTART:20251026T010000
END:STANDARD
END:VTIMEZONE
BEGIN:VEVENT
DTSTART;TZID=Europe/Paris:20240704T183000
DTEND;TZID=Europe/Paris:20240704T223000
DTSTAMP:20260420T162246
CREATED:20240604T124249Z
LAST-MODIFIED:20240604T124311Z
UID:8152-1720117800-1720132200@www.roullet-saint-estephe.fr
SUMMARY:Soirs bleus 2024
DESCRIPTION:Rendez-vous le 4 juillet à 18 h 30 à Saint-Estèphe\nCette année encore\, nous vous offrons deux spectacles : \n\n18 h 30 : la Compagnie SiSiNonNon présentera son spectacle « l’herbe est plus rose ici« . Les artistes sont les héros d’une BD grandeur nature où tout peut arriver. Avec leurs exubérances\, leurs tics\, leurs tocs et leurs douces folies\, ils partagent un quotidien cartoonesque et gentiment absurde.\n21 h : concert avec le groupe ALKABAYA\, groupe de musique français qui propose un mélange de chanson\, de pop et de musique électronique.\n\nDe 19 h 30 – 20 h 45 : Vous pourrez également participer aux « Ateliers en famille » (construction de maquettes\, dessins créatifs…) animés par le service Pays d’Art et d’Histoire de GrandAngoulême \nToutes ces manifestations sont entièrement gratuites \nRestauration\, buvette\, glaces\, bonbons durant toute la manifestation
URL:https://www.roullet-saint-estephe.fr/evenement/soirs-bleus-2024/
LOCATION:Saint-Estèphe\, Roullet-Saint-Estèphe\, 16440\, France
CATEGORIES:Musique,Spectacle
ATTACH;FMTTYPE=image/jpeg:https://www.roullet-saint-estephe.fr/wp-content/uploads/2024/06/36175963_595277414188124_5985019034142244864_n.jpg
END:VEVENT
END:VCALENDAR