BEGIN:VCALENDAR
VERSION:2.0
PRODID:-//Roullet-Saint-Estèphe - ECPv6.15.17//NONSGML v1.0//EN
CALSCALE:GREGORIAN
METHOD:PUBLISH
X-WR-CALNAME:Roullet-Saint-Estèphe
X-ORIGINAL-URL:https://www.roullet-saint-estephe.fr
X-WR-CALDESC:Évènements pour Roullet-Saint-Estèphe
REFRESH-INTERVAL;VALUE=DURATION:PT1H
X-Robots-Tag:noindex
X-PUBLISHED-TTL:PT1H
BEGIN:VTIMEZONE
TZID:Europe/Paris
BEGIN:DAYLIGHT
TZOFFSETFROM:+0100
TZOFFSETTO:+0200
TZNAME:CEST
DTSTART:20230326T010000
END:DAYLIGHT
BEGIN:STANDARD
TZOFFSETFROM:+0200
TZOFFSETTO:+0100
TZNAME:CET
DTSTART:20231029T010000
END:STANDARD
BEGIN:DAYLIGHT
TZOFFSETFROM:+0100
TZOFFSETTO:+0200
TZNAME:CEST
DTSTART:20240331T010000
END:DAYLIGHT
BEGIN:STANDARD
TZOFFSETFROM:+0200
TZOFFSETTO:+0100
TZNAME:CET
DTSTART:20241027T010000
END:STANDARD
BEGIN:DAYLIGHT
TZOFFSETFROM:+0100
TZOFFSETTO:+0200
TZNAME:CEST
DTSTART:20250330T010000
END:DAYLIGHT
BEGIN:STANDARD
TZOFFSETFROM:+0200
TZOFFSETTO:+0100
TZNAME:CET
DTSTART:20251026T010000
END:STANDARD
END:VTIMEZONE
BEGIN:VEVENT
DTSTART;TZID=Europe/Paris:20241005T140000
DTEND;TZID=Europe/Paris:20241005T163000
DTSTAMP:20260420T212317
CREATED:20240917T093145Z
LAST-MODIFIED:20240917T093145Z
UID:8440-1728136800-1728145800@www.roullet-saint-estephe.fr
SUMMARY:Octobre Rose
DESCRIPTION:Roullet-Sein-Estèphe 2024  – Nouvelle mobilisation \n\nJusqu’au 31 octobre\,\n\nCollecte de soutiens-gorges : Boite à disposition au bureau de tabac et à la mairie.\n\n\n\n(Ils seront transmis pour dons) \n\nLe 5 octobre\, à partir de 14h\, plaine des Glamots espace J.P. KERJEAN :\n\nCourse\, marche (plusieurs parcours)\, jeu de piste mais aussi un atelier de dépistage du cancer et lecture de témoignage.\n\n\n\nUne urne sera à disposition pour vos dons \n  \nGratuit et ouvert à tous. On vous attend nombreux …. En rose
URL:https://www.roullet-saint-estephe.fr/evenement/octobre-rose-2/
LOCATION:Plaine des Glamots
ATTACH;FMTTYPE=image/jpeg:https://www.roullet-saint-estephe.fr/wp-content/uploads/2024/09/A4_OctobreRose24_v3.jpg
END:VEVENT
END:VCALENDAR