BEGIN:VCALENDAR
VERSION:2.0
PRODID:-//Roullet-Saint-Estèphe - ECPv6.15.17//NONSGML v1.0//EN
CALSCALE:GREGORIAN
METHOD:PUBLISH
X-ORIGINAL-URL:https://www.roullet-saint-estephe.fr
X-WR-CALDESC:Évènements pour Roullet-Saint-Estèphe
REFRESH-INTERVAL;VALUE=DURATION:PT1H
X-Robots-Tag:noindex
X-PUBLISHED-TTL:PT1H
BEGIN:VTIMEZONE
TZID:Europe/Paris
BEGIN:DAYLIGHT
TZOFFSETFROM:+0100
TZOFFSETTO:+0200
TZNAME:CEST
DTSTART:20240331T010000
END:DAYLIGHT
BEGIN:STANDARD
TZOFFSETFROM:+0200
TZOFFSETTO:+0100
TZNAME:CET
DTSTART:20241027T010000
END:STANDARD
BEGIN:DAYLIGHT
TZOFFSETFROM:+0100
TZOFFSETTO:+0200
TZNAME:CEST
DTSTART:20250330T010000
END:DAYLIGHT
BEGIN:STANDARD
TZOFFSETFROM:+0200
TZOFFSETTO:+0100
TZNAME:CET
DTSTART:20251026T010000
END:STANDARD
BEGIN:DAYLIGHT
TZOFFSETFROM:+0100
TZOFFSETTO:+0200
TZNAME:CEST
DTSTART:20260329T010000
END:DAYLIGHT
BEGIN:STANDARD
TZOFFSETFROM:+0200
TZOFFSETTO:+0100
TZNAME:CET
DTSTART:20261025T010000
END:STANDARD
END:VTIMEZONE
BEGIN:VEVENT
DTSTART;TZID=Europe/Paris:20250308T173000
DTEND;TZID=Europe/Paris:20250308T183000
DTSTAMP:20260423T130643
CREATED:20250303T100805Z
LAST-MODIFIED:20250303T100812Z
UID:8744-1741455000-1741458600@www.roullet-saint-estephe.fr
SUMMARY:Tango Argentin
DESCRIPTION:Venez vous initier au Tango Argentin \nle samedi 08 mars 2025 de 17h30 à 18h30 \nPlaine des Glamots sous le chapiteau du cirque \nGratuit – sans réservation  \nRenseignements : 06 15 86 51 32 \n 
URL:https://www.roullet-saint-estephe.fr/evenement/tango-argentin/
LOCATION:Plaine des Glamots
CATEGORIES:Spectacle
ATTACH;FMTTYPE=image/jpeg:https://www.roullet-saint-estephe.fr/wp-content/uploads/2025/03/Flyers_initiationTango.jpg
END:VEVENT
BEGIN:VEVENT
DTSTART;TZID=Europe/Paris:20250311T203000
DTEND;TZID=Europe/Paris:20250311T220000
DTSTAMP:20260423T130643
CREATED:20250303T101909Z
LAST-MODIFIED:20250303T102327Z
UID:8748-1741725000-1741730400@www.roullet-saint-estephe.fr
SUMMARY:Dans l'espace - Un Loup pour l'Homme
DESCRIPTION:En avant-goût du rendez-vous estival des Soirs Bleus\, GrandAngoulême en partenariat avec le Théâtre d’Angoulême\, Scène nationale\, et la ville de Roullet-Saint-Estèphe\, accueille dans le cadre de son nouveau programme de résidences artistiques dans les communes du territoire la fameuse compagnie d’arts du cirque « Un loup pour l’Homme »\, à Roullet-Saint-Estèphe. \nLa compagnie propose une représentation ouverte au public : \nMardi 11 mars à 20h30 \n\nBillets disponibles sur https://billetterie.theatre-angouleme.org/ \n\nTEASER DU SPECTACLE DANS L’ESPACE : https://www.youtube.com/watch?v=4RSfeNytl3M
URL:https://www.roullet-saint-estephe.fr/evenement/dans-lespace-un-loup-pour-lhomme/
LOCATION:Plaine des Glamots
CATEGORIES:Spectacle
ATTACH;FMTTYPE=image/jpeg:https://www.roullet-saint-estephe.fr/wp-content/uploads/2025/03/Dans-lespace.jpg
END:VEVENT
BEGIN:VEVENT
DTSTART;TZID=Europe/Paris:20250312T193000
DTEND;TZID=Europe/Paris:20250312T210000
DTSTAMP:20260423T130643
CREATED:20250303T102535Z
LAST-MODIFIED:20250303T102636Z
UID:8752-1741807800-1741813200@www.roullet-saint-estephe.fr
SUMMARY:Dans l'espace - Un Loup pour l'Homme
DESCRIPTION:En avant-goût du rendez-vous estival des Soirs Bleus\, GrandAngoulême en partenariat avec le Théâtre d’Angoulême\, Scène nationale\, et la ville de Roullet-Saint-Estèphe\, accueille dans le cadre de son nouveau programme de résidences artistiques dans les communes du territoire la fameuse compagnie d’arts du cirque « Un loup pour l’Homme »\, à Roullet-Saint-Estèphe. \nLa compagnie propose une représentation ouverte au public : \nMercredi 12 mars à 19h30 \n\nBillets disponibles sur https://billetterie.theatre-angouleme.org/ \n\nTEASER DU SPECTACLE DANS L’ESPACE : https://www.youtube.com/watch?v=4RSfeNytl3M
URL:https://www.roullet-saint-estephe.fr/evenement/dans-lespace-un-loup-pour-lhomme-2/
LOCATION:Plaine des Glamots
CATEGORIES:Spectacle
ATTACH;FMTTYPE=image/jpeg:https://www.roullet-saint-estephe.fr/wp-content/uploads/2025/03/Dans-lespace.jpg
END:VEVENT
BEGIN:VEVENT
DTSTART;TZID=Europe/Paris:20250322T203000
DTEND;TZID=Europe/Paris:20250322T203000
DTSTAMP:20260423T130643
CREATED:20250314T131043Z
LAST-MODIFIED:20250314T135813Z
UID:8773-1742675400-1742675400@www.roullet-saint-estephe.fr
SUMMARY:Soirée LOTO
DESCRIPTION:
URL:https://www.roullet-saint-estephe.fr/evenement/soiree-loto/
LOCATION:Salle des fêtes\, Roullet-Saint-Estèphe\, 16440
CATEGORIES:Animation
ATTACH;FMTTYPE=image/jpeg:https://www.roullet-saint-estephe.fr/wp-content/uploads/2025/03/Soiree-LOTO-22-03-2025.jpg
END:VEVENT
END:VCALENDAR