BEGIN:VCALENDAR
VERSION:2.0
PRODID:-//Roullet-Saint-Estèphe - ECPv6.15.17//NONSGML v1.0//EN
CALSCALE:GREGORIAN
METHOD:PUBLISH
X-ORIGINAL-URL:https://www.roullet-saint-estephe.fr
X-WR-CALDESC:Évènements pour Roullet-Saint-Estèphe
REFRESH-INTERVAL;VALUE=DURATION:PT1H
X-Robots-Tag:noindex
X-PUBLISHED-TTL:PT1H
BEGIN:VTIMEZONE
TZID:Europe/Paris
BEGIN:DAYLIGHT
TZOFFSETFROM:+0100
TZOFFSETTO:+0200
TZNAME:CEST
DTSTART:20240331T010000
END:DAYLIGHT
BEGIN:STANDARD
TZOFFSETFROM:+0200
TZOFFSETTO:+0100
TZNAME:CET
DTSTART:20241027T010000
END:STANDARD
BEGIN:DAYLIGHT
TZOFFSETFROM:+0100
TZOFFSETTO:+0200
TZNAME:CEST
DTSTART:20250330T010000
END:DAYLIGHT
BEGIN:STANDARD
TZOFFSETFROM:+0200
TZOFFSETTO:+0100
TZNAME:CET
DTSTART:20251026T010000
END:STANDARD
BEGIN:DAYLIGHT
TZOFFSETFROM:+0100
TZOFFSETTO:+0200
TZNAME:CEST
DTSTART:20260329T010000
END:DAYLIGHT
BEGIN:STANDARD
TZOFFSETFROM:+0200
TZOFFSETTO:+0100
TZNAME:CET
DTSTART:20261025T010000
END:STANDARD
END:VTIMEZONE
BEGIN:VEVENT
DTSTART;TZID=Europe/Paris:20250703T183000
DTEND;TZID=Europe/Paris:20250703T220000
DTSTAMP:20260421T070046
CREATED:20250606T113941Z
LAST-MODIFIED:20250613T131805Z
UID:8931-1751567400-1751580000@www.roullet-saint-estephe.fr
SUMMARY:Soirs bleus à Saint-Estèphe (Roullet-Saint-Estèphe)
DESCRIPTION:Rendez-vous le jeudi 3 juillet à 18 h 30 à Saint-Estèphe\nAu programme !!! \n 18 h 30 : TALCHE par Davide Fontana. Dans ce spectacle muet\, un personnage étrange et excentrique fait des petites blagues aux spectateurs\, cherchant leur complicité et leur attention pour créer un moment partage et de légèreté face aux prouesses et inventions bizarres de M. Talchè\, pour finir par une bataille de polochons ! \n19 h 15 – 20 h 45 : Ateliers en famille (manipulations et constructions de maquettes (très pédagogiques)\, dessins créatifs…) animés par le service Pays d’Art et d’Histoire de GrandAngoulême. \n21 h 00 : concert avec le groupe ZARHZÄ\, c’est un peu comme tous ces gens en transit que tu accueilles chez toi pour une durée souvent indéterminée et avec qui ça part en soirée en pleine semaine. Il en résulte une musique transculturelle\, théâtrale et mélodique\, puissante et intimiste\, indissociable de ses protagonistes\, appartenant à tous\, sans distinction. \nDans la variété des palettes sonores des concerts de Zarhä\, on y reconnaît\, par bribes\, l’énergie ravageuse de la Mano Negra\, la chanson voyageuse des Zoufris Maracas et l’ambiance cuivrée d’un Goran Bregovic. Elles offrent une virée bouillonnante et poétique dans les nuits de Rio et de Paris. \nRestauration et buvette par des associations de la commune pendant la manifestation \nAccès gratuit aux animations et au concert !!!
URL:https://www.roullet-saint-estephe.fr/evenement/soirs-bleus-a-saint-estephe-roullet-saint-estephe/
LOCATION:Saint-Estèphe\, Roullet-Saint-Estèphe\, 16440\, France
CATEGORIES:Animation,Concert
ATTACH;FMTTYPE=image/jpeg:https://www.roullet-saint-estephe.fr/wp-content/uploads/2025/06/Davide-Fontana.jpg
END:VEVENT
END:VCALENDAR